BEGIN:VCALENDAR
VERSION:2.0
PRODID:-//Lions Club Cedar Park / Leander - ECPv6.15.20//NONSGML v1.0//EN
CALSCALE:GREGORIAN
METHOD:PUBLISH
X-WR-CALNAME:Lions Club Cedar Park / Leander
X-ORIGINAL-URL:https://www.longhornlions.org
X-WR-CALDESC:Events for Lions Club Cedar Park / Leander
REFRESH-INTERVAL;VALUE=DURATION:PT1H
X-Robots-Tag:noindex
X-PUBLISHED-TTL:PT1H
BEGIN:VTIMEZONE
TZID:America/Chicago
BEGIN:DAYLIGHT
TZOFFSETFROM:-0600
TZOFFSETTO:-0500
TZNAME:CDT
DTSTART:20250309T080000
END:DAYLIGHT
BEGIN:STANDARD
TZOFFSETFROM:-0500
TZOFFSETTO:-0600
TZNAME:CST
DTSTART:20251102T070000
END:STANDARD
BEGIN:DAYLIGHT
TZOFFSETFROM:-0600
TZOFFSETTO:-0500
TZNAME:CDT
DTSTART:20260308T080000
END:DAYLIGHT
BEGIN:STANDARD
TZOFFSETFROM:-0500
TZOFFSETTO:-0600
TZNAME:CST
DTSTART:20261101T070000
END:STANDARD
BEGIN:DAYLIGHT
TZOFFSETFROM:-0600
TZOFFSETTO:-0500
TZNAME:CDT
DTSTART:20270314T080000
END:DAYLIGHT
BEGIN:STANDARD
TZOFFSETFROM:-0500
TZOFFSETTO:-0600
TZNAME:CST
DTSTART:20271107T070000
END:STANDARD
END:VTIMEZONE
BEGIN:VEVENT
DTSTART;TZID=America/Chicago:20260419T120000
DTEND;TZID=America/Chicago:20260419T160000
DTSTAMP:20260425T215927
CREATED:20260204T073338Z
LAST-MODIFIED:20260331T145555Z
UID:1945-1776600000-1776614400@www.longhornlions.org
SUMMARY:VFW Chad O Foundation Fundraiser
DESCRIPTION:
URL:https://www.longhornlions.org/event/vfw-chad-o-foundation/
CATEGORIES:Other Community Events
ATTACH;FMTTYPE=image/png:https://www.longhornlions.org/wp-content/uploads/2026/03/Lions-Club-Event-Images.png
END:VEVENT
END:VCALENDAR