BEGIN:VCALENDAR
VERSION:2.0
PRODID:-//Lions Club Cedar Park / Leander - ECPv6.15.20//NONSGML v1.0//EN
CALSCALE:GREGORIAN
METHOD:PUBLISH
X-ORIGINAL-URL:https://www.longhornlions.org
X-WR-CALDESC:Events for Lions Club Cedar Park / Leander
REFRESH-INTERVAL;VALUE=DURATION:PT1H
X-Robots-Tag:noindex
X-PUBLISHED-TTL:PT1H
BEGIN:VTIMEZONE
TZID:America/Chicago
BEGIN:DAYLIGHT
TZOFFSETFROM:-0600
TZOFFSETTO:-0500
TZNAME:CDT
DTSTART:20250309T080000
END:DAYLIGHT
BEGIN:STANDARD
TZOFFSETFROM:-0500
TZOFFSETTO:-0600
TZNAME:CST
DTSTART:20251102T070000
END:STANDARD
BEGIN:DAYLIGHT
TZOFFSETFROM:-0600
TZOFFSETTO:-0500
TZNAME:CDT
DTSTART:20260308T080000
END:DAYLIGHT
BEGIN:STANDARD
TZOFFSETFROM:-0500
TZOFFSETTO:-0600
TZNAME:CST
DTSTART:20261101T070000
END:STANDARD
BEGIN:DAYLIGHT
TZOFFSETFROM:-0600
TZOFFSETTO:-0500
TZNAME:CDT
DTSTART:20270314T080000
END:DAYLIGHT
BEGIN:STANDARD
TZOFFSETFROM:-0500
TZOFFSETTO:-0600
TZNAME:CST
DTSTART:20271107T070000
END:STANDARD
END:VTIMEZONE
BEGIN:VEVENT
DTSTART;TZID=America/Chicago:20260505T190000
DTEND;TZID=America/Chicago:20260505T203000
DTSTAMP:20260425T220107
CREATED:20260304T081039Z
LAST-MODIFIED:20260331T145519Z
UID:1973-1778007600-1778013000@www.longhornlions.org
SUMMARY:Lions Club Meeting: Cinco de Mayo
DESCRIPTION:Dress up in Cinco de Mayo attire! We’ll catch up over dinner\, share a beer (or a soda!)\, and talk about upcoming service projects and ways to support our community. Whether you’re a longtime member or just curious about what we do\, you’re welcome to pull up a chair and join the conversation.
URL:https://www.longhornlions.org/event/lions-club-meeting-15/
LOCATION:Texican Cafe\, 11066 Pecan Park Blvd\, Cedar Park\, TX\, 78613
CATEGORIES:Lions Club
ATTACH;FMTTYPE=image/png:https://www.longhornlions.org/wp-content/uploads/2025/06/Meeting.png
END:VEVENT
END:VCALENDAR