BEGIN:VCALENDAR
VERSION:2.0
PRODID:-//Lions Club Cedar Park / Leander - ECPv6.15.20//NONSGML v1.0//EN
CALSCALE:GREGORIAN
METHOD:PUBLISH
X-WR-CALNAME:Lions Club Cedar Park / Leander
X-ORIGINAL-URL:https://www.longhornlions.org
X-WR-CALDESC:Events for Lions Club Cedar Park / Leander
REFRESH-INTERVAL;VALUE=DURATION:PT1H
X-Robots-Tag:noindex
X-PUBLISHED-TTL:PT1H
BEGIN:VTIMEZONE
TZID:America/Chicago
BEGIN:DAYLIGHT
TZOFFSETFROM:-0600
TZOFFSETTO:-0500
TZNAME:CDT
DTSTART:20250309T080000
END:DAYLIGHT
BEGIN:STANDARD
TZOFFSETFROM:-0500
TZOFFSETTO:-0600
TZNAME:CST
DTSTART:20251102T070000
END:STANDARD
BEGIN:DAYLIGHT
TZOFFSETFROM:-0600
TZOFFSETTO:-0500
TZNAME:CDT
DTSTART:20260308T080000
END:DAYLIGHT
BEGIN:STANDARD
TZOFFSETFROM:-0500
TZOFFSETTO:-0600
TZNAME:CST
DTSTART:20261101T070000
END:STANDARD
BEGIN:DAYLIGHT
TZOFFSETFROM:-0600
TZOFFSETTO:-0500
TZNAME:CDT
DTSTART:20270314T080000
END:DAYLIGHT
BEGIN:STANDARD
TZOFFSETFROM:-0500
TZOFFSETTO:-0600
TZNAME:CST
DTSTART:20271107T070000
END:STANDARD
END:VTIMEZONE
BEGIN:VEVENT
DTSTART;TZID=America/Chicago:20260303T190000
DTEND;TZID=America/Chicago:20260303T203000
DTSTAMP:20260425T220446
CREATED:20260131T080831Z
LAST-MODIFIED:20260331T145708Z
UID:1923-1772564400-1772569800@www.longhornlions.org
SUMMARY:Lions Club Meeting
DESCRIPTION:
URL:https://www.longhornlions.org/event/lions-club-meeting-12/
LOCATION:BBQ Chicken & Grill\, 11301 Lakeline Blvd\, #110
CATEGORIES:Lions Club
ATTACH;FMTTYPE=image/png:https://www.longhornlions.org/wp-content/uploads/2025/06/Meeting.png
END:VEVENT
BEGIN:VEVENT
DTSTART;VALUE=DATE:20260304
DTEND;VALUE=DATE:20260306
DTSTAMP:20260425T220446
CREATED:20260131T080954Z
LAST-MODIFIED:20260331T145703Z
UID:1925-1772582400-1772755199@www.longhornlions.org
SUMMARY:Amplify Austin
DESCRIPTION:The biggest giving event in Central Texas is happening on March 4-5\, 2026. Learn more:  http://amplifyatx.org/
URL:https://www.longhornlions.org/event/amplify-austin/
CATEGORIES:Other Community Events
END:VEVENT
BEGIN:VEVENT
DTSTART;VALUE=DATE:20260307
DTEND;VALUE=DATE:20260308
DTSTAMP:20260425T220446
CREATED:20260304T080316Z
LAST-MODIFIED:20260331T145659Z
UID:1958-1772841600-1772927999@www.longhornlions.org
SUMMARY:Shrine Crawfish Boil
DESCRIPTION:
URL:https://www.longhornlions.org/event/shrine-crawfish-boil/
CATEGORIES:Other Community Events
END:VEVENT
BEGIN:VEVENT
DTSTART;TZID=America/Chicago:20260316T180000
DTEND;TZID=America/Chicago:20260316T200000
DTSTAMP:20260425T220446
CREATED:20260131T081032Z
LAST-MODIFIED:20260331T145654Z
UID:1927-1773684000-1773691200@www.longhornlions.org
SUMMARY:Masonic Dinner
DESCRIPTION:
URL:https://www.longhornlions.org/event/masonic-dinner/
LOCATION:Norton Moses Lodge
CATEGORIES:Other Community Events
ATTACH;FMTTYPE=image/png:https://www.longhornlions.org/wp-content/uploads/2026/01/Masonic.png
END:VEVENT
BEGIN:VEVENT
DTSTART;TZID=America/Chicago:20260317T180000
DTEND;TZID=America/Chicago:20260317T203000
DTSTAMP:20260425T220446
CREATED:20260304T080729Z
LAST-MODIFIED:20260331T145634Z
UID:1967-1773770400-1773779400@www.longhornlions.org
SUMMARY:VFW Burger Burn
DESCRIPTION:
URL:https://www.longhornlions.org/event/vfw-burger-burn/
CATEGORIES:Other Community Events
ATTACH;FMTTYPE=image/png:https://www.longhornlions.org/wp-content/uploads/2026/03/Lions-Club-Event-Images.png
END:VEVENT
BEGIN:VEVENT
DTSTART;TZID=America/Chicago:20260317T190000
DTEND;TZID=America/Chicago:20260317T203000
DTSTAMP:20260425T220446
CREATED:20260131T081153Z
LAST-MODIFIED:20260331T145630Z
UID:1930-1773774000-1773779400@www.longhornlions.org
SUMMARY:Lions Club Meeting (St. Patrick's Theme!)
DESCRIPTION:We’ll catch up over dinner\, share a beer (or a soda!)\, and talk about upcoming service projects and ways to support our community. Whether you’re a longtime member or just curious about what we do\, you’re welcome to pull up a chair and join the conversation.
URL:https://www.longhornlions.org/event/lions-club-meeting-st-patricks-theme/
LOCATION:Pinballz\, 8940 Research Blvd\, Austin\, TX\, 78758
CATEGORIES:Lions Club
ATTACH;FMTTYPE=image/png:https://www.longhornlions.org/wp-content/uploads/2025/06/Meeting.png
END:VEVENT
BEGIN:VEVENT
DTSTART;TZID=America/Chicago:20260320T180000
DTEND;TZID=America/Chicago:20260320T200000
DTSTAMP:20260425T220446
CREATED:20260304T080427Z
LAST-MODIFIED:20260331T145625Z
UID:1960-1774029600-1774036800@www.longhornlions.org
SUMMARY:VFW Steak Night
DESCRIPTION:
URL:https://www.longhornlions.org/event/vfw-steak-night-2/
ATTACH;FMTTYPE=image/png:https://www.longhornlions.org/wp-content/uploads/2026/03/Lions-Club-Event-Images.png
END:VEVENT
BEGIN:VEVENT
DTSTART;VALUE=DATE:20260328
DTEND;VALUE=DATE:20260329
DTSTAMP:20260425T220446
CREATED:20260204T073720Z
LAST-MODIFIED:20260331T145620Z
UID:1948-1774656000-1774742399@www.longhornlions.org
SUMMARY:VFW Vietnam Veterans Event
DESCRIPTION:
URL:https://www.longhornlions.org/event/vfw-vietnam-veterans-event/
CATEGORIES:Other Community Events
ATTACH;FMTTYPE=image/png:https://www.longhornlions.org/wp-content/uploads/2026/03/Lions-Club-Event-Images.png
END:VEVENT
BEGIN:VEVENT
DTSTART;TZID=America/Chicago:20260331T090000
DTEND;TZID=America/Chicago:20260331T110000
DTSTAMP:20260425T220446
CREATED:20260311T065313Z
LAST-MODIFIED:20260331T145615Z
UID:1980-1774947600-1774954800@www.longhornlions.org
SUMMARY:Doctor Appreciation Day Drop-Offs
DESCRIPTION:
URL:https://www.longhornlions.org/event/doctor-appreciation-day-drop-offs/
LOCATION:Lonestar Bakery
CATEGORIES:Lions Club
ATTACH;FMTTYPE=image/png:https://www.longhornlions.org/wp-content/uploads/2026/01/Work-Day.png
END:VEVENT
BEGIN:VEVENT
DTSTART;TZID=America/Chicago:20260404T110000
DTEND;TZID=America/Chicago:20260404T130000
DTSTAMP:20260425T220446
CREATED:20260304T080646Z
LAST-MODIFIED:20260331T145611Z
UID:1964-1775300400-1775307600@www.longhornlions.org
SUMMARY:VFW Egg Hunt
DESCRIPTION:
URL:https://www.longhornlions.org/event/vfw-egg-hunt/
CATEGORIES:Other Community Events
ATTACH;FMTTYPE=image/png:https://www.longhornlions.org/wp-content/uploads/2026/03/Lions-Club-Event-Images.png
END:VEVENT
BEGIN:VEVENT
DTSTART;TZID=America/Chicago:20260407T190000
DTEND;TZID=America/Chicago:20260407T203000
DTSTAMP:20260425T220446
CREATED:20260304T080535Z
LAST-MODIFIED:20260331T145607Z
UID:1962-1775588400-1775593800@www.longhornlions.org
SUMMARY:Lions Club Meeting
DESCRIPTION:We’ll catch up over dinner\, share a beer (or a soda!)\, and talk about upcoming service projects and ways to support our community. Whether you’re a longtime member or just curious about what we do\, you’re welcome to pull up a chair and join the conversation.
URL:https://www.longhornlions.org/event/lions-club-meeting-13/
LOCATION:BBQ Chicken & Grill\, 11301 Lakeline Blvd\, #110
CATEGORIES:Lions Club
ATTACH;FMTTYPE=image/png:https://www.longhornlions.org/wp-content/uploads/2025/06/Meeting.png
END:VEVENT
BEGIN:VEVENT
DTSTART;TZID=America/Chicago:20260411T163000
DTEND;TZID=America/Chicago:20260411T220000
DTSTAMP:20260425T220446
CREATED:20260131T081307Z
LAST-MODIFIED:20260331T145600Z
UID:1932-1775925000-1775944800@www.longhornlions.org
SUMMARY:ROCK Barn Dance
DESCRIPTION:20th Annual Barn Dance with the theme “It’s About Time”! Details here: https://rockride.org/event/20th-annual-barn-dance/
URL:https://www.longhornlions.org/event/rock-barn-dance/
CATEGORIES:Other Community Events
END:VEVENT
BEGIN:VEVENT
DTSTART;TZID=America/Chicago:20260419T120000
DTEND;TZID=America/Chicago:20260419T160000
DTSTAMP:20260425T220446
CREATED:20260204T073338Z
LAST-MODIFIED:20260331T145555Z
UID:1945-1776600000-1776614400@www.longhornlions.org
SUMMARY:VFW Chad O Foundation Fundraiser
DESCRIPTION:
URL:https://www.longhornlions.org/event/vfw-chad-o-foundation/
CATEGORIES:Other Community Events
ATTACH;FMTTYPE=image/png:https://www.longhornlions.org/wp-content/uploads/2026/03/Lions-Club-Event-Images.png
END:VEVENT
BEGIN:VEVENT
DTSTART;TZID=America/Chicago:20260421T190000
DTEND;TZID=America/Chicago:20260421T210000
DTSTAMP:20260425T220446
CREATED:20260304T080821Z
LAST-MODIFIED:20260331T145550Z
UID:1969-1776798000-1776805200@www.longhornlions.org
SUMMARY:Lions Club Meeting: Eyeglasses Sorting & Potluck
DESCRIPTION:
URL:https://www.longhornlions.org/event/lions-club-meeting-14/
LOCATION:Austin Estate Plan\, 102 Raley Rd.\, Cedar Park\, TX\, 78613
CATEGORIES:Lions Club
ATTACH;FMTTYPE=image/png:https://www.longhornlions.org/wp-content/uploads/2025/06/Meeting.png
END:VEVENT
BEGIN:VEVENT
DTSTART;VALUE=DATE:20260424
DTEND;VALUE=DATE:20260425
DTSTAMP:20260425T220446
CREATED:20260304T080920Z
LAST-MODIFIED:20260331T145528Z
UID:1971-1776988800-1777075199@www.longhornlions.org
SUMMARY:VFW Steak Night
DESCRIPTION:
URL:https://www.longhornlions.org/event/vfw-steak-night-3/
CATEGORIES:Other Community Events
ATTACH;FMTTYPE=image/png:https://www.longhornlions.org/wp-content/uploads/2026/03/Lions-Club-Event-Images.png
END:VEVENT
BEGIN:VEVENT
DTSTART;VALUE=DATE:20260502
DTEND;VALUE=DATE:20260503
DTSTAMP:20260425T220446
CREATED:20260304T080023Z
LAST-MODIFIED:20260331T145523Z
UID:1954-1777680000-1777766399@www.longhornlions.org
SUMMARY:Lions Regional Convention
DESCRIPTION:
URL:https://www.longhornlions.org/event/lions-regional-convention/
LOCATION:Palm Valley Luthern Church\, 2500 E Palm Valley Blvd\, Round Rock\, TX\, 78665
CATEGORIES:Lions Club
ATTACH;FMTTYPE=image/png:https://www.longhornlions.org/wp-content/uploads/2025/08/Special-Event.png
END:VEVENT
BEGIN:VEVENT
DTSTART;TZID=America/Chicago:20260505T190000
DTEND;TZID=America/Chicago:20260505T203000
DTSTAMP:20260425T220446
CREATED:20260304T081039Z
LAST-MODIFIED:20260331T145519Z
UID:1973-1778007600-1778013000@www.longhornlions.org
SUMMARY:Lions Club Meeting: Cinco de Mayo
DESCRIPTION:Dress up in Cinco de Mayo attire! We’ll catch up over dinner\, share a beer (or a soda!)\, and talk about upcoming service projects and ways to support our community. Whether you’re a longtime member or just curious about what we do\, you’re welcome to pull up a chair and join the conversation.
URL:https://www.longhornlions.org/event/lions-club-meeting-15/
LOCATION:Texican Cafe\, 11066 Pecan Park Blvd\, Cedar Park\, TX\, 78613
CATEGORIES:Lions Club
ATTACH;FMTTYPE=image/png:https://www.longhornlions.org/wp-content/uploads/2025/06/Meeting.png
END:VEVENT
BEGIN:VEVENT
DTSTART;TZID=America/Chicago:20260519T190000
DTEND;TZID=America/Chicago:20260519T203000
DTSTAMP:20260425T220446
CREATED:20260330T202426Z
LAST-MODIFIED:20260331T145514Z
UID:1993-1779217200-1779222600@www.longhornlions.org
SUMMARY:Lions Club Meeting
DESCRIPTION:We’ll catch up over dinner\, share a beer (or a soda!)\, and talk about upcoming service projects and ways to support our community. Whether you’re a longtime member or just curious about what we do\, you’re welcome to pull up a chair and join the conversation.
URL:https://www.longhornlions.org/event/lions-club-meeting-16/
LOCATION:Brass Tap\, 15181 Ronald W. Reagan Blvd Ste 300\, Leander\, TX\, 78641
CATEGORIES:Lions Club
ATTACH;FMTTYPE=image/png:https://www.longhornlions.org/wp-content/uploads/2025/06/Meeting.png
END:VEVENT
BEGIN:VEVENT
DTSTART;VALUE=DATE:20260531
DTEND;VALUE=DATE:20260601
DTSTAMP:20260425T220446
CREATED:20260204T072846Z
LAST-MODIFIED:20260331T145509Z
UID:1941-1780185600-1780271999@www.longhornlions.org
SUMMARY:Lions Camp Work Day
DESCRIPTION:
URL:https://www.longhornlions.org/event/lions-camp-work-day/
CATEGORIES:Lions Club
ATTACH;FMTTYPE=image/png:https://www.longhornlions.org/wp-content/uploads/2026/01/Work-Day.png
END:VEVENT
BEGIN:VEVENT
DTSTART;TZID=America/Chicago:20260602T190000
DTEND;TZID=America/Chicago:20260602T203000
DTSTAMP:20260425T220446
CREATED:20260330T202642Z
LAST-MODIFIED:20260331T145453Z
UID:1996-1780426800-1780432200@www.longhornlions.org
SUMMARY:Lions Club Meeting - Bring a Friend!
DESCRIPTION:This is a membership drive meeting. Bring a friend! We’ll catch up over dinner\, share a beer (or a soda!)\, and talk about upcoming service projects and ways to support our community. Whether you’re a longtime member or just curious about what we do\, you’re welcome to pull up a chair and join the conversation.
URL:https://www.longhornlions.org/event/lions-club-meeting-bring-a-friend/
LOCATION:Brewtique\, 401 Cypress Creek Road Unit 100\, Cedar Park\, TX\, 78613
CATEGORIES:Lions Club
ATTACH;FMTTYPE=image/png:https://www.longhornlions.org/wp-content/uploads/2025/06/Meeting.png
END:VEVENT
BEGIN:VEVENT
DTSTART;TZID=America/Chicago:20260616T190000
DTEND;TZID=America/Chicago:20260616T203000
DTSTAMP:20260425T220446
CREATED:20260330T202728Z
LAST-MODIFIED:20260331T145449Z
UID:1999-1781636400-1781641800@www.longhornlions.org
SUMMARY:Lions Club Meeting
DESCRIPTION:We’ll catch up over dinner\, share a beer (or a soda!)\, and talk about upcoming service projects and ways to support our community. Whether you’re a longtime member or just curious about what we do\, you’re welcome to pull up a chair and join the conversation.
URL:https://www.longhornlions.org/event/lions-club-meeting-17/
LOCATION:5th Element Brewing\, 100 E Evans St\, Leander\, TX\, 78641\, United States
CATEGORIES:Lions Club
ATTACH;FMTTYPE=image/png:https://www.longhornlions.org/wp-content/uploads/2025/06/Meeting.png
END:VEVENT
BEGIN:VEVENT
DTSTART;VALUE=DATE:20260621
DTEND;VALUE=DATE:20260622
DTSTAMP:20260425T220446
CREATED:20260204T072931Z
LAST-MODIFIED:20260331T145443Z
UID:1943-1782000000-1782086399@www.longhornlions.org
SUMMARY:Lions Camp Work Day
DESCRIPTION:
URL:https://www.longhornlions.org/event/lions-camp-work-day-2/
CATEGORIES:Lions Club
ATTACH;FMTTYPE=image/png:https://www.longhornlions.org/wp-content/uploads/2026/01/Work-Day.png
END:VEVENT
BEGIN:VEVENT
DTSTART;TZID=America/Chicago:20260707T190000
DTEND;TZID=America/Chicago:20260707T203000
DTSTAMP:20260425T220446
CREATED:20260330T202835Z
LAST-MODIFIED:20260331T145438Z
UID:2001-1783450800-1783456200@www.longhornlions.org
SUMMARY:Lions Club Meeting
DESCRIPTION:Our first meeting with Tracie as president! We’ll catch up over dinner\, share a beer (or a soda!)\, and talk about upcoming service projects and ways to support our community. Whether you’re a longtime member or just curious about what we do\, you’re welcome to pull up a chair and join the conversation.
URL:https://www.longhornlions.org/event/lions-club-meeting-18/
LOCATION:The Fieldhouse @ The Crossover\, 1717 Scottsdale Dr Unit 160\, Leander\, TX\, 78641
CATEGORIES:Lions Club
ATTACH;FMTTYPE=image/png:https://www.longhornlions.org/wp-content/uploads/2025/06/Meeting.png
END:VEVENT
BEGIN:VEVENT
DTSTART;TZID=America/Chicago:20260721T190000
DTEND;TZID=America/Chicago:20260721T203000
DTSTAMP:20260425T220446
CREATED:20260330T202933Z
LAST-MODIFIED:20260331T145432Z
UID:2004-1784660400-1784665800@www.longhornlions.org
SUMMARY:Lions Club Meeting
DESCRIPTION:We’ll catch up over dinner\, share a beer (or a soda!)\, and talk about upcoming service projects and ways to support our community. Whether you’re a longtime member or just curious about what we do\, you’re welcome to pull up a chair and join the conversation.
URL:https://www.longhornlions.org/event/lions-club-meeting-19/
LOCATION:Firewater Sports Bar & Cafe\, 13010 W. Parmer Lane Ste 300\, Cedar Park\, TX\, 78613
CATEGORIES:Lions Club
ATTACH;FMTTYPE=image/png:https://www.longhornlions.org/wp-content/uploads/2025/06/Meeting.png
END:VEVENT
BEGIN:VEVENT
DTSTART;TZID=America/Chicago:20260804T190000
DTEND;TZID=America/Chicago:20260804T203000
DTSTAMP:20260425T220446
CREATED:20260330T203011Z
LAST-MODIFIED:20260331T145412Z
UID:2007-1785870000-1785875400@www.longhornlions.org
SUMMARY:Lions Club Meeting
DESCRIPTION:We’ll catch up over dinner\, share a beer (or a soda!)\, and talk about upcoming service projects and ways to support our community. Whether you’re a longtime member or just curious about what we do\, you’re welcome to pull up a chair and join the conversation.
URL:https://www.longhornlions.org/event/lions-club-meeting-20/
LOCATION:Leanderthal Distilling\, 11894 Hero Way W.\, Leander\, TX\, 78641
CATEGORIES:Lions Club
ATTACH;FMTTYPE=image/png:https://www.longhornlions.org/wp-content/uploads/2025/06/Meeting.png
END:VEVENT
BEGIN:VEVENT
DTSTART;TZID=America/Chicago:20260818T190000
DTEND;TZID=America/Chicago:20260818T203000
DTSTAMP:20260425T220446
CREATED:20260330T203036Z
LAST-MODIFIED:20260331T145407Z
UID:2010-1787079600-1787085000@www.longhornlions.org
SUMMARY:Lions Club Meeting
DESCRIPTION:We’ll catch up over dinner\, share a beer (or a soda!)\, and talk about upcoming service projects and ways to support our community. Whether you’re a longtime member or just curious about what we do\, you’re welcome to pull up a chair and join the conversation.
URL:https://www.longhornlions.org/event/lions-club-meeting-21/
LOCATION:Red Horn Brewery & Roastery\, 1615 Scottsdale Dr Building 1 Suite 110\, Leander\, Texas\, 78641
CATEGORIES:Lions Club
ATTACH;FMTTYPE=image/png:https://www.longhornlions.org/wp-content/uploads/2025/06/Meeting.png
END:VEVENT
BEGIN:VEVENT
DTSTART;TZID=America/Chicago:20260901T190000
DTEND;TZID=America/Chicago:20260901T203000
DTSTAMP:20260425T220446
CREATED:20260330T203129Z
LAST-MODIFIED:20260331T145402Z
UID:2013-1788289200-1788294600@www.longhornlions.org
SUMMARY:Lions Club Meeting + Sammy's Birthday!
DESCRIPTION:Bring a dog treat to celebrate Sammy’s birthday!! We’ll catch up over dinner\, share a beer (or a soda!)\, and talk about upcoming service projects and ways to support our community. Whether you’re a longtime member or just curious about what we do\, you’re welcome to pull up a chair and join the conversation.
URL:https://www.longhornlions.org/event/lions-club-meeting-sammys-birthday/
LOCATION:MUTTS Canine Cantina\, 9825 N. Lake Creek Pkwy\, Austin\, TX\, 78717
CATEGORIES:Lions Club
ATTACH;FMTTYPE=image/png:https://www.longhornlions.org/wp-content/uploads/2025/06/Meeting.png
END:VEVENT
BEGIN:VEVENT
DTSTART;TZID=America/Chicago:20260915T190000
DTEND;TZID=America/Chicago:20260915T203000
DTSTAMP:20260425T220446
CREATED:20260330T203221Z
LAST-MODIFIED:20260331T145357Z
UID:2016-1789498800-1789504200@www.longhornlions.org
SUMMARY:Lions Club Meeting
DESCRIPTION:We’ll catch up over dinner\, share a beer (or a soda!)\, and talk about upcoming service projects and ways to support our community. Whether you’re a longtime member or just curious about what we do\, you’re welcome to pull up a chair and join the conversation.
URL:https://www.longhornlions.org/event/lions-club-meeting-22/
LOCATION:The Dugout\, 401 Cypress Creek Rd. Ste 600\, Cedar Park\, TX\, 78613
CATEGORIES:Lions Club
ATTACH;FMTTYPE=image/png:https://www.longhornlions.org/wp-content/uploads/2025/06/Meeting.png
END:VEVENT
BEGIN:VEVENT
DTSTART;TZID=America/Chicago:20261006T190000
DTEND;TZID=America/Chicago:20261006T203000
DTSTAMP:20260425T220446
CREATED:20260330T203244Z
LAST-MODIFIED:20260331T145353Z
UID:2019-1791313200-1791318600@www.longhornlions.org
SUMMARY:Lions Club Meeting
DESCRIPTION:We’ll catch up over dinner\, share a beer (or a soda!)\, and talk about upcoming service projects and ways to support our community. Whether you’re a longtime member or just curious about what we do\, you’re welcome to pull up a chair and join the conversation.
URL:https://www.longhornlions.org/event/lions-club-meeting-23/
LOCATION:The All Good\, 601 E Whitestone Suite 500
CATEGORIES:Lions Club
ATTACH;FMTTYPE=image/png:https://www.longhornlions.org/wp-content/uploads/2025/06/Meeting.png
END:VEVENT
BEGIN:VEVENT
DTSTART;TZID=America/Chicago:20261020T190000
DTEND;TZID=America/Chicago:20261020T203000
DTSTAMP:20260425T220446
CREATED:20260330T203334Z
LAST-MODIFIED:20260331T145259Z
UID:2021-1792522800-1792528200@www.longhornlions.org
SUMMARY:Lions Club Meeting - Halloween Dress-Up!
DESCRIPTION:We’ll catch up over dinner\, share a beer (or a soda!)\, and talk about upcoming service projects and ways to support our community. Whether you’re a longtime member or just curious about what we do\, you’re welcome to pull up a chair and join the conversation.
URL:https://www.longhornlions.org/event/lions-club-meeting-halloween-dress-up/
LOCATION:Obsidian Brewery\, 11880 Hero Way Unit 208\, Leander\, TX\, 78641
CATEGORIES:Lions Club
ATTACH;FMTTYPE=image/png:https://www.longhornlions.org/wp-content/uploads/2025/06/Meeting.png
END:VEVENT
END:VCALENDAR