BEGIN:VCALENDAR
VERSION:2.0
PRODID:-//Lions Club Cedar Park / Leander - ECPv6.15.20//NONSGML v1.0//EN
CALSCALE:GREGORIAN
METHOD:PUBLISH
X-ORIGINAL-URL:https://www.longhornlions.org
X-WR-CALDESC:Events for Lions Club Cedar Park / Leander
REFRESH-INTERVAL;VALUE=DURATION:PT1H
X-Robots-Tag:noindex
X-PUBLISHED-TTL:PT1H
BEGIN:VTIMEZONE
TZID:America/Chicago
BEGIN:DAYLIGHT
TZOFFSETFROM:-0600
TZOFFSETTO:-0500
TZNAME:CDT
DTSTART:20240310T080000
END:DAYLIGHT
BEGIN:STANDARD
TZOFFSETFROM:-0500
TZOFFSETTO:-0600
TZNAME:CST
DTSTART:20241103T070000
END:STANDARD
BEGIN:DAYLIGHT
TZOFFSETFROM:-0600
TZOFFSETTO:-0500
TZNAME:CDT
DTSTART:20250309T080000
END:DAYLIGHT
BEGIN:STANDARD
TZOFFSETFROM:-0500
TZOFFSETTO:-0600
TZNAME:CST
DTSTART:20251102T070000
END:STANDARD
BEGIN:DAYLIGHT
TZOFFSETFROM:-0600
TZOFFSETTO:-0500
TZNAME:CDT
DTSTART:20260308T080000
END:DAYLIGHT
BEGIN:STANDARD
TZOFFSETFROM:-0500
TZOFFSETTO:-0600
TZNAME:CST
DTSTART:20261101T070000
END:STANDARD
BEGIN:DAYLIGHT
TZOFFSETFROM:-0600
TZOFFSETTO:-0500
TZNAME:CDT
DTSTART:20270314T080000
END:DAYLIGHT
BEGIN:STANDARD
TZOFFSETFROM:-0500
TZOFFSETTO:-0600
TZNAME:CST
DTSTART:20271107T070000
END:STANDARD
END:VTIMEZONE
BEGIN:VEVENT
DTSTART;TZID=America/Chicago:20260203T190000
DTEND;TZID=America/Chicago:20260203T203000
DTSTAMP:20260425T220337
CREATED:20260121T062348Z
LAST-MODIFIED:20260331T145746Z
UID:1896-1770145200-1770150600@www.longhornlions.org
SUMMARY:Lions Club Meeting
DESCRIPTION:We’ll catch up over dinner\, share a beer (or a soda!)\, and talk about upcoming service projects and ways to support our community. Whether you’re a longtime member or just curious about what we do\, you’re welcome to pull up a chair and join the conversation.
URL:https://www.longhornlions.org/event/meeting/
LOCATION:The All Good\, 601 E Whitestone Suite 500
ATTACH;FMTTYPE=image/png:https://www.longhornlions.org/wp-content/uploads/2025/06/Meeting.png
END:VEVENT
BEGIN:VEVENT
DTSTART;TZID=America/Chicago:20260131T120000
DTEND;TZID=America/Chicago:20260131T130000
DTSTAMP:20260425T220337
CREATED:20260131T075716Z
LAST-MODIFIED:20260331T145805Z
UID:1906-1769860800-1769864400@www.longhornlions.org
SUMMARY:WiSC Walk for Peace Board Meeting
DESCRIPTION:
URL:https://www.longhornlions.org/event/wisc-walk-for-peace-board-meeting/
LOCATION:Slackers\, 12233 Ranch Rd 620 N #204\,\, Austin\, TX\, 78750
END:VEVENT
BEGIN:VEVENT
DTSTART;TZID=America/Chicago:20260106T190000
DTEND;TZID=America/Chicago:20260106T203000
DTSTAMP:20260425T220337
CREATED:20250807T194803Z
LAST-MODIFIED:20260331T145810Z
UID:1635-1767726000-1767731400@www.longhornlions.org
SUMMARY:Lions Club Meeting
DESCRIPTION:We’ll catch up over dinner\, share a beer (or a soda!)\, and talk about upcoming service projects and ways to support our community. Whether you’re a longtime member or just curious about what we do\, you’re welcome to pull up a chair and join the conversation.
URL:https://www.longhornlions.org/event/lions-club-meeting-8/
LOCATION:La Dosis Coffee  + Cocktails\, 300 W Whitestone Blvd\, Cedar Park\, TX\, 78613
ATTACH;FMTTYPE=image/png:https://www.longhornlions.org/wp-content/uploads/2025/06/Meeting.png
END:VEVENT
BEGIN:VEVENT
DTSTART;TZID=America/Chicago:20251216T180000
DTEND;TZID=America/Chicago:20251216T203000
DTSTAMP:20260425T220337
CREATED:20250807T195150Z
LAST-MODIFIED:20260331T145815Z
UID:1646-1765908000-1765917000@www.longhornlions.org
SUMMARY:Lions Club Meeting - Holiday Shopping for Charities
DESCRIPTION:We’ll gather to shop for holiday food and gifts to donate to charities we support. \nThere will be two groups: \n\nHEB Lakeline\nTarget Lakeline
URL:https://www.longhornlions.org/event/lions-club-meeting-holiday-shopping-for-charities/
LOCATION:HEB or Target Lakeline
ATTACH;FMTTYPE=image/png:https://www.longhornlions.org/wp-content/uploads/2025/08/Lions-Club-Event-Images-6.png
END:VEVENT
BEGIN:VEVENT
DTSTART;TZID=America/Chicago:20251205T180000
DTEND;TZID=America/Chicago:20251205T210000
DTSTAMP:20260425T220337
CREATED:20251008T054445Z
LAST-MODIFIED:20260331T145819Z
UID:1771-1764957600-1764968400@www.longhornlions.org
SUMMARY:Christmas Party
DESCRIPTION:White elephant gift. \nWear fun/tacky Christmas sweaters.\nFamily members invited.
URL:https://www.longhornlions.org/event/christmas-party/
LOCATION:Jack Allen’s Cedar Park
END:VEVENT
BEGIN:VEVENT
DTSTART;TZID=America/Chicago:20251202T190000
DTEND;TZID=America/Chicago:20251202T203000
DTSTAMP:20260425T220337
CREATED:20250807T194751Z
LAST-MODIFIED:20260331T145823Z
UID:1634-1764702000-1764707400@www.longhornlions.org
SUMMARY:Lions Club Meeting - Winter Celebration!
DESCRIPTION:We’ll catch up over dinner\, share a beer (or a soda!)\, and talk about upcoming service projects and ways to support our community. Whether you’re a longtime member or just curious about what we do\, you’re welcome to pull up a chair and join the conversation.
URL:https://www.longhornlions.org/event/lions-club-meeting-winter-celebration/
LOCATION:La Dosis Coffee  + Cocktails\, 300 W Whitestone Blvd\, Cedar Park\, TX\, 78613
ATTACH;FMTTYPE=image/png:https://www.longhornlions.org/wp-content/uploads/2025/08/Winter-Celebration-Holiday-Party.png
END:VEVENT
BEGIN:VEVENT
DTSTART;TZID=America/Chicago:20251118T190000
DTEND;TZID=America/Chicago:20251118T203000
DTSTAMP:20260425T220337
CREATED:20250807T195057Z
LAST-MODIFIED:20260331T145931Z
UID:1643-1763492400-1763497800@www.longhornlions.org
SUMMARY:Lions Club Meeting
DESCRIPTION:We’ll catch up over dinner\, share a beer (or a soda!)\, and talk about upcoming service projects and ways to support our community. Whether you’re a longtime member or just curious about what we do\, you’re welcome to pull up a chair and join the conversation.
URL:https://www.longhornlions.org/event/lions-club-meeting-11/
LOCATION:Sami Sumeli Georgian European Restaurant\, 401 E Whitestone Blvd STE A101\, Cedar Park\, TX\, 78613
ATTACH;FMTTYPE=image/png:https://www.longhornlions.org/wp-content/uploads/2025/06/Meeting.png
END:VEVENT
BEGIN:VEVENT
DTSTART;TZID=America/Chicago:20251104T190000
DTEND;TZID=America/Chicago:20251104T203000
DTSTAMP:20260425T220337
CREATED:20250807T194705Z
LAST-MODIFIED:20260331T145925Z
UID:1631-1762282800-1762288200@www.longhornlions.org
SUMMARY:Lions Club Meeting
DESCRIPTION:We’ll catch up over dinner\, share a beer (or a soda!)\, and talk about upcoming service projects and ways to support our community. Whether you’re a longtime member or just curious about what we do\, you’re welcome to pull up a chair and join the conversation.
URL:https://www.longhornlions.org/event/lions-club-meeting-7/
LOCATION:La Dosis Coffee  + Cocktails\, 300 W Whitestone Blvd\, Cedar Park\, TX\, 78613
ATTACH;FMTTYPE=image/png:https://www.longhornlions.org/wp-content/uploads/2025/06/Meeting.png
END:VEVENT
BEGIN:VEVENT
DTSTART;TZID=America/Chicago:20251102T140000
DTEND;TZID=America/Chicago:20251102T170000
DTSTAMP:20260425T220337
CREATED:20250807T203813Z
LAST-MODIFIED:20260331T145920Z
UID:1661-1762092000-1762102800@www.longhornlions.org
SUMMARY:Walk for Peace - In Step with Our Neighbors
DESCRIPTION:Start: Old Cedar Park Library\, 550 Discovery Blvd. \nFinish: New Cedar Park Library\, 425 S Parkwest Drive \nA free\, family-friendly walk bringing neighbors of all ages\, backgrounds\, and beliefs together for kindness\, respect\, and understanding. \nIn a time of deep division\, this is a chance to come together—not as opposing sides\, but as neighbors. Organized by local service clubs\, this walk is a celebration of our shared humanity and a reminder that peace begins with connection. Our mission is to create space for unity\, compassion\, and community—one step at a time. \n  \nMORE DETAILS COMING SOON!
URL:https://www.longhornlions.org/event/walk-for-peace-in-step-with-our-neighbors/
LOCATION:Old Cedar Park Library\, 550 Discovery Blvd\, Cedar Park\, TX
ATTACH;FMTTYPE=image/png:https://www.longhornlions.org/wp-content/uploads/2025/08/Special-Event.png
END:VEVENT
BEGIN:VEVENT
DTSTART;VALUE=DATE:20251101
DTEND;VALUE=DATE:20251102
DTSTAMP:20260425T220337
CREATED:20250903T200758Z
LAST-MODIFIED:20260331T145915Z
UID:1750-1761955200-1762041599@www.longhornlions.org
SUMMARY:Cowgirl Brunch with ROCK
DESCRIPTION:
URL:https://www.longhornlions.org/event/cowgirl-brunch-with-rock/
END:VEVENT
BEGIN:VEVENT
DTSTART;VALUE=DATE:20251022
DTEND;VALUE=DATE:20251023
DTSTAMP:20260425T220337
CREATED:20250903T200712Z
LAST-MODIFIED:20260331T145910Z
UID:1747-1761091200-1761177599@www.longhornlions.org
SUMMARY:Volunteering at Parents as Teachers
DESCRIPTION:
URL:https://www.longhornlions.org/event/volunteering-at-parents-as-teachers/
LOCATION:LEO Center\, 300 S W Dr\, Leander\, TX\, 78641
END:VEVENT
BEGIN:VEVENT
DTSTART;TZID=America/Chicago:20251021T190000
DTEND;TZID=America/Chicago:20251021T203000
DTSTAMP:20260425T220337
CREATED:20250807T194958Z
LAST-MODIFIED:20260331T145905Z
UID:1641-1761073200-1761078600@www.longhornlions.org
SUMMARY:Lions Club Meeting
DESCRIPTION:We’ll catch up over dinner\, share a beer (or a soda!)\, and talk about upcoming service projects and ways to support our community. Whether you’re a longtime member or just curious about what we do\, you’re welcome to pull up a chair and join the conversation.
URL:https://www.longhornlions.org/event/lions-club-meeting-10/
LOCATION:Warpath Pizza & Pub\, 401 Cypress Creek Road # 600\,\, Cedar Park\, TX\, 78613
ATTACH;FMTTYPE=image/png:https://www.longhornlions.org/wp-content/uploads/2025/06/Meeting.png
END:VEVENT
BEGIN:VEVENT
DTSTART;TZID=America/Chicago:20251007T190000
DTEND;TZID=America/Chicago:20251007T203000
DTSTAMP:20260425T220337
CREATED:20250807T194652Z
LAST-MODIFIED:20260331T145900Z
UID:1630-1759863600-1759869000@www.longhornlions.org
SUMMARY:Lions Club Meeting
DESCRIPTION:We’ll catch up over dinner\, share a beer (or a soda!)\, and talk about upcoming service projects and ways to support our community. Whether you’re a longtime member or just curious about what we do\, you’re welcome to pull up a chair and join the conversation.
URL:https://www.longhornlions.org/event/lions-club-meeting-6/
LOCATION:La Dosis Coffee  + Cocktails\, 300 W Whitestone Blvd\, Cedar Park\, TX\, 78613
ATTACH;FMTTYPE=image/png:https://www.longhornlions.org/wp-content/uploads/2025/06/Meeting.png
END:VEVENT
BEGIN:VEVENT
DTSTART;TZID=America/Chicago:20250924T083000
DTEND;TZID=America/Chicago:20250924T093000
DTSTAMP:20260425T220337
CREATED:20250903T200535Z
LAST-MODIFIED:20260331T145856Z
UID:1743-1758702600-1758706200@www.longhornlions.org
SUMMARY:WiSC Breakfast
DESCRIPTION:
URL:https://www.longhornlions.org/event/wisc-breakfast/
LOCATION:First Watch Cedar Park\, 1320 E Whitestone Blvd Ste 600\, Cedar Park\, TX\, 78613
ATTACH;FMTTYPE=image/png:https://www.longhornlions.org/wp-content/uploads/2025/09/WISC-2.png
END:VEVENT
BEGIN:VEVENT
DTSTART;TZID=America/Chicago:20250916T190000
DTEND;TZID=America/Chicago:20250916T203000
DTSTAMP:20260425T220337
CREATED:20250807T194915Z
LAST-MODIFIED:20260331T145852Z
UID:1638-1758049200-1758054600@www.longhornlions.org
SUMMARY:Lions Club Meeting
DESCRIPTION:We’ll catch up over dinner\, share a beer (or a soda!)\, and talk about upcoming service projects and ways to support our community. Whether you’re a longtime member or just curious about what we do\, you’re welcome to pull up a chair and join the conversation.
URL:https://www.longhornlions.org/event/lions-club-meeting-9/
LOCATION:Red Horn Brewery & Roastery\, 1615 Scottsdale Dr Building 1 Suite 110\, Leander\, Texas\, 78641
ATTACH;FMTTYPE=image/png:https://www.longhornlions.org/wp-content/uploads/2025/06/Meeting.png
END:VEVENT
BEGIN:VEVENT
DTSTART;VALUE=DATE:20250913
DTEND;VALUE=DATE:20250914
DTSTAMP:20260425T220337
CREATED:20250903T130022Z
LAST-MODIFIED:20260331T145846Z
UID:1739-1757721600-1757807999@www.longhornlions.org
SUMMARY:Volunteer Project with Hill Country Community Ministries
DESCRIPTION:You must have RSVP’d through HCCM to participate.
URL:https://www.longhornlions.org/event/volunteer-project-with-hill-country-community-ministries/
LOCATION:Hill Country Community Ministries
ATTACH;FMTTYPE=image/png:https://www.longhornlions.org/wp-content/uploads/2025/09/Lions-Club-Idea-Dump-17.png
END:VEVENT
BEGIN:VEVENT
DTSTART;TZID=America/Chicago:20250909T120000
DTEND;TZID=America/Chicago:20250909T160000
DTSTAMP:20260425T220337
CREATED:20250902T224257Z
LAST-MODIFIED:20250902T235622Z
UID:1735-1757419200-1757433600@www.longhornlions.org
SUMMARY:Flood Relief Game Night
DESCRIPTION:Get details on this event.
URL:https://www.longhornlions.org/event/flood-relief-game-night/
LOCATION:La Dosis Coffee  + Cocktails\, 300 W Whitestone Blvd\, Cedar Park\, TX\, 78613
ATTACH;FMTTYPE=image/png:https://www.longhornlions.org/wp-content/uploads/2025/08/Lions-Flood-Relief-Board-Game-Night-Meta.png
END:VEVENT
BEGIN:VEVENT
DTSTART;TZID=America/Chicago:20250902T140000
DTEND;TZID=America/Chicago:20250902T153000
DTSTAMP:20260425T220337
CREATED:20250807T194624Z
LAST-MODIFIED:20250807T194624Z
UID:1627-1756821600-1756827000@www.longhornlions.org
SUMMARY:Lions Club Meeting
DESCRIPTION:We’ll catch up over dinner\, share a beer (or a soda!)\, and talk about upcoming service projects and ways to support our community. Whether you’re a longtime member or just curious about what we do\, you’re welcome to pull up a chair and join the conversation.
URL:https://www.longhornlions.org/event/lions-club-meeting-5/
LOCATION:La Dosis Coffee  + Cocktails\, 300 W Whitestone Blvd\, Cedar Park\, TX\, 78613
ATTACH;FMTTYPE=image/png:https://www.longhornlions.org/wp-content/uploads/2025/06/Meeting.png
END:VEVENT
BEGIN:VEVENT
DTSTART;TZID=America/Chicago:20250819T140000
DTEND;TZID=America/Chicago:20250819T153000
DTSTAMP:20260425T220337
CREATED:20250729T022307Z
LAST-MODIFIED:20250807T194558Z
UID:1542-1755612000-1755617400@www.longhornlions.org
SUMMARY:Lions Club Meeting
DESCRIPTION:We’ll catch up over dinner\, share a beer (or a soda!)\, and talk about upcoming service projects and ways to support our community. Whether you’re a longtime member or just curious about what we do\, you’re welcome to pull up a chair and join the conversation.
URL:https://www.longhornlions.org/event/lions-club-meeting-4/
LOCATION:Southern’s Pizza\, 1913 S Hwy 183\, Leander\, TX\, 78641
ATTACH;FMTTYPE=image/png:https://www.longhornlions.org/wp-content/uploads/2025/06/Meeting.png
END:VEVENT
BEGIN:VEVENT
DTSTART;VALUE=DATE:20250817
DTEND;VALUE=DATE:20250819
DTSTAMP:20260425T220337
CREATED:20250729T022210Z
LAST-MODIFIED:20250729T024141Z
UID:1544-1755457200-1755543599@www.longhornlions.org
SUMMARY:Special Visit
DESCRIPTION:Details coming soon!
URL:https://www.longhornlions.org/event/special-visit/
LOCATION:Location TBD
ATTACH;FMTTYPE=image/png:https://www.longhornlions.org/wp-content/uploads/2025/07/Lions-Club-Event-Images-5.png
END:VEVENT
BEGIN:VEVENT
DTSTART;TZID=America/Chicago:20250816T030000
DTEND;TZID=America/Chicago:20250816T070000
DTSTAMP:20260425T220337
CREATED:20250729T023622Z
LAST-MODIFIED:20250729T023622Z
UID:1547-1755313200-1755327600@www.longhornlions.org
SUMMARY:District 2-S3 Cabinet Meeting
DESCRIPTION:Register Online
URL:https://www.longhornlions.org/event/district-2-s3-cabinet-meeting/
LOCATION:Wimberley Community Center\, 14068 Ranch Road 12\, Wimberley\, TX\, 78676
ATTACH;FMTTYPE=image/png:https://www.longhornlions.org/wp-content/uploads/2025/07/Lions-Club-Event-Images-3.png
END:VEVENT
BEGIN:VEVENT
DTSTART;TZID=America/Chicago:20250807T130000
DTEND;TZID=America/Chicago:20250807T160000
DTSTAMP:20260425T220337
CREATED:20250807T202659Z
LAST-MODIFIED:20250807T202659Z
UID:1651-1754571600-1754582400@www.longhornlions.org
SUMMARY:Buda Lions Club 50th Anniversary Celebration
DESCRIPTION:
URL:https://www.longhornlions.org/event/buda-lions-club-50th-anniversary-celebration/
LOCATION:Manchaca United Methodist Church\, 1011 FM 1626\, Manchaca\, TX\, 78652
ATTACH;FMTTYPE=image/png:https://www.longhornlions.org/wp-content/uploads/2025/08/Special-Event.png
END:VEVENT
BEGIN:VEVENT
DTSTART;TZID=America/Chicago:20250805T140000
DTEND;TZID=America/Chicago:20250805T153000
DTSTAMP:20260425T220337
CREATED:20250628T024421Z
LAST-MODIFIED:20250729T022100Z
UID:1395-1754402400-1754407800@www.longhornlions.org
SUMMARY:Lions Club Meeting
DESCRIPTION:We’ll catch up over dinner\, share a beer (or a soda!)\, and talk about upcoming service projects and ways to support our community. Whether you’re a longtime member or just curious about what we do\, you’re welcome to pull up a chair and join the conversation.
URL:https://www.longhornlions.org/event/lions-club-meeting-3/
LOCATION:La Dosis Coffee  + Cocktails\, 300 W Whitestone Blvd\, Cedar Park\, TX\, 78613
ATTACH;FMTTYPE=image/png:https://www.longhornlions.org/wp-content/uploads/2025/06/Meeting.png
END:VEVENT
BEGIN:VEVENT
DTSTART;TZID=America/Chicago:20250802T020000
DTEND;TZID=America/Chicago:20250802T080000
DTSTAMP:20260425T220337
CREATED:20250807T203408Z
LAST-MODIFIED:20250807T203502Z
UID:1658-1754100000-1754121600@www.longhornlions.org
SUMMARY:LISD Backpack Attack
DESCRIPTION:Free vision screenings and book give outs at LISD Backpack Attack
URL:https://www.longhornlions.org/event/lisd-backpack-attack/
ATTACH;FMTTYPE=image/png:https://www.longhornlions.org/wp-content/uploads/2025/08/Backpack-Attack.png
END:VEVENT
BEGIN:VEVENT
DTSTART;TZID=America/Chicago:20250715T140000
DTEND;TZID=America/Chicago:20250715T153000
DTSTAMP:20260425T220337
CREATED:20250628T024334Z
LAST-MODIFIED:20250628T024334Z
UID:1391-1752588000-1752593400@www.longhornlions.org
SUMMARY:Lions Club Meeting
DESCRIPTION:We’ll catch up over dinner\, share a beer (or a soda!)\, and talk about upcoming service projects and ways to support our community. Whether you’re a longtime member or just curious about what we do\, you’re welcome to pull up a chair and join the conversation.
URL:https://www.longhornlions.org/event/lions-club-meeting-2/
LOCATION:Location TBD
ATTACH;FMTTYPE=image/png:https://www.longhornlions.org/wp-content/uploads/2025/06/Meeting.png
END:VEVENT
BEGIN:VEVENT
DTSTART;TZID=America/Chicago:20250703T140000
DTEND;TZID=America/Chicago:20250703T153000
DTSTAMP:20260425T220337
CREATED:20250628T023821Z
LAST-MODIFIED:20250628T024028Z
UID:1383-1751551200-1751556600@www.longhornlions.org
SUMMARY:Lions Club Meeting
DESCRIPTION:We’ll catch up over dinner\, share a beer (or a soda!)\, and talk about upcoming service projects and ways to support our community. Whether you’re a longtime member or just curious about what we do\, you’re welcome to pull up a chair and join the conversation.
URL:https://www.longhornlions.org/event/lions-club-meeting/
LOCATION:5th Element Brewing\, 100 E Evans St\, Leander\, TX\, 78641\, United States
ATTACH;FMTTYPE=image/png:https://www.longhornlions.org/wp-content/uploads/2025/06/Meeting.png
END:VEVENT
BEGIN:VEVENT
DTSTART;TZID=America/Chicago:20250629T030000
DTEND;TZID=America/Chicago:20250629T120000
DTSTAMP:20260425T220337
CREATED:20250628T034423Z
LAST-MODIFIED:20250628T034423Z
UID:1444-1751166000-1751198400@www.longhornlions.org
SUMMARY:Volunteering at Texas Lions Camp
DESCRIPTION:Each summer\, our club helps welcome campers with disabilities and those managing diabetes by assisting with luggage and offering a warm smile as they arrive.
URL:https://www.longhornlions.org/event/volunteering-at-texas-lions-camp/
LOCATION:Texas Lions Camp\, 4100 San Antonio Hwy\, Kerrville\, Texas\, 78028
ATTACH;FMTTYPE=image/png:https://www.longhornlions.org/wp-content/uploads/2025/06/Lions-Club-Event-Images-2.png
END:VEVENT
BEGIN:VEVENT
DTSTART;TZID=America/Chicago:20250628T040000
DTEND;TZID=America/Chicago:20250628T120000
DTSTAMP:20260425T220337
CREATED:20250513T195537Z
LAST-MODIFIED:20250628T014554Z
UID:880-1751083200-1751112000@www.longhornlions.org
SUMMARY:Peach Pickup
DESCRIPTION:Lions volunteers: Please arrive by 8:00 AM to help us set up and prepare. \n\n\nCustomers: Peach pickup begins at 9:00 AM. \n\n\nThank you for supporting our fundraiser—we can’t wait to see you there!
URL:https://www.longhornlions.org/event/peach-pickup/
LOCATION:Bethany United Methodist Church\, 10010 Anderson Mill Rd\, Austin\, TX\, 78750
ATTACH;FMTTYPE=image/png:https://www.longhornlions.org/wp-content/uploads/2025/05/Lions-Club-Event-Images-1.png
END:VEVENT
BEGIN:VEVENT
DTSTART;TZID=America/Chicago:20250612T070000
DTEND;TZID=America/Chicago:20250612T140000
DTSTAMP:20260425T220337
CREATED:20250511T081344Z
LAST-MODIFIED:20250628T014128Z
UID:843-1749711600-1749736800@www.longhornlions.org
SUMMARY:WiSC Community Happy Hour Fundraiser
DESCRIPTION:
URL:https://www.longhornlions.org/event/wisc-community-happy-hour-fundraiser/
LOCATION:The Point ATX\, 910 Round Rock Ave\, Round Rock\, TX\, 78681
ATTACH;FMTTYPE=image/png:https://www.longhornlions.org/wp-content/uploads/2025/05/Lions-Club-Event-Images.png
END:VEVENT
END:VCALENDAR